BEGIN:VCALENDAR
VERSION:2.0
PRODID:-//eventon.com NONSGML v1.0//EN
CALSCALE:GREGORIAN
METHOD:PUBLISH
BEGIN:VEVENT
UID:69e7a03fbee1d
DTSTAMP:20260421T160519Z
DTSTART:20191213T190000Z
DTEND:20191213T210000Z
LOCATION:Faith Center: Sanctuary 1032 Bay St.
SUMMARY:It's the Holidays\,  Charlie Brown!
DESCRIPTION:Tickets are now on sale for our annual Christmas Production. Th
 is year we have the pleasure of bringing you an adaptation base on the work
 s of Charles Schulz titled "It's the holidays\,  Charlie Brown!" Tickets ar
 e $10 for an adult and $5 for a child. Complimentary desserts follow each s
 howing.[..]\nhttps://www.eurekafaithcenter.org/events/its-the-holidays-char
 lie-brown/
URL:https://www.eurekafaithcenter.org/events/its-the-holidays-charlie-brown/
END:VEVENT
END:VCALENDAR